BEGIN:VCALENDAR
VERSION:2.0
PRODID:-//Förderverein HSAS - ECPv6.15.20//NONSGML v1.0//EN
CALSCALE:GREGORIAN
METHOD:PUBLISH
X-WR-CALNAME:Förderverein HSAS
X-ORIGINAL-URL:https://foerderverein-hs-albsig.de
X-WR-CALDESC:Veranstaltungen für Förderverein HSAS
REFRESH-INTERVAL;VALUE=DURATION:PT1H
X-Robots-Tag:noindex
X-PUBLISHED-TTL:PT1H
BEGIN:VTIMEZONE
TZID:Europe/Berlin
BEGIN:DAYLIGHT
TZOFFSETFROM:+0100
TZOFFSETTO:+0200
TZNAME:CEST
DTSTART:20250330T010000
END:DAYLIGHT
BEGIN:STANDARD
TZOFFSETFROM:+0200
TZOFFSETTO:+0100
TZNAME:CET
DTSTART:20251026T010000
END:STANDARD
BEGIN:DAYLIGHT
TZOFFSETFROM:+0100
TZOFFSETTO:+0200
TZNAME:CEST
DTSTART:20260329T010000
END:DAYLIGHT
BEGIN:STANDARD
TZOFFSETFROM:+0200
TZOFFSETTO:+0100
TZNAME:CET
DTSTART:20261025T010000
END:STANDARD
BEGIN:DAYLIGHT
TZOFFSETFROM:+0100
TZOFFSETTO:+0200
TZNAME:CEST
DTSTART:20270328T010000
END:DAYLIGHT
BEGIN:STANDARD
TZOFFSETFROM:+0200
TZOFFSETTO:+0100
TZNAME:CET
DTSTART:20271031T010000
END:STANDARD
END:VTIMEZONE
BEGIN:VEVENT
DTSTART;TZID=Europe/Berlin:20260422T173000
DTEND;TZID=Europe/Berlin:20260422T190000
DTSTAMP:20260420T140646
CREATED:20260212T102434Z
LAST-MODIFIED:20260212T102434Z
UID:2430-1776879000-1776884400@foerderverein-hs-albsig.de
SUMMARY:Steuertipps für Studierende
DESCRIPTION:„Steuertipps für Studierende“ \nMeine finanzielle Karriere – wie bereite ich mich jetzt schon schlau darauf vor. \nIn diesem Workshop lernt Ihr in Form von Praxisbeispielen die Grundlagen des deutschen Steuersystems kennen. Welche Studienkosten bei der Steuererklärung angesetzt werden können und warum man noch kein Geld verdienen muss\, um von Steuern zu profitieren. \nInhalte:\n•Grundlagen des deutschen Steuersystems\n•Was kann ich ansetzen und was bedeutet das für mich?\n•Werbungskostenoptimierung durch bewussten Umgang mit Belegen\n•Welche häufigen Fehler sollten vermieden werden?\n•Aktuelle Gesetzesänderungen“ \nReferentin: Tamara Taxis Steuerberaterin\nRWT Revision und Wirtschaftstreuhand GmbH \n\n	Hinweis: Für diesen Inhalt ist JavaScript erforderlich.
URL:https://foerderverein-hs-albsig.de/event/steuertipps-fuer-studierende-9/
LOCATION:Online\, Deutschland
ATTACH;FMTTYPE=image/jpeg:https://foerderverein-hs-albsig.de/wp-content/uploads/2022/09/Steuertipps-e1687521021766.jpg
END:VEVENT
BEGIN:VEVENT
DTSTART;TZID=Europe/Berlin:20260429T173000
DTEND;TZID=Europe/Berlin:20260429T190000
DTSTAMP:20260420T140646
CREATED:20260212T110842Z
LAST-MODIFIED:20260212T111907Z
UID:2432-1777483800-1777489200@foerderverein-hs-albsig.de
SUMMARY:Wille schlägt Talent
DESCRIPTION:„Wille schlägt Talent“\nReferentin: Aline Rotter-Focken\, Olympiasiegerin & Weltmeisterin im Ringen. \nWie gelingt es\, trotz Druck\, Rückschlägen und Zweifel den eigenen Weg zu gehen und dabei innere Stärke zu entwickeln? \nAline Rotter-Focken erzählt in ihrem Vortrag von ihrem Weg aus einer Ringerfamilie an die Weltspitze–von Herausforderungen\, Selbstzweifeln und den Momenten\, in denen Dankbarkeit der stärkste Gegenpol zur Angst wurde. Heute ist sie Olympiasiegerin\, Weltmeisterin\, zweifache Mutter und Speakerin. Mit viel Offenheit und Humor zeigt sie\, wie mentale Stärke\, Selbstführung und Resilienz entstehen–nicht durch Perfektion\, sondern durch Haltung\, Ausdauer und bewusste Balance.\nDer Vortrag richtet sich an alle\, die ihren Alltag\, ihr Studium oder ihren Beruf mit mehrinnerer Ruhe\, Klarheit und Motivation gestalten wollen. \nZentrale Themen \n• Mentale Power entfalten\n• Rückschläge annehmen und wachsen\n• Eigene Grenzen erkennen – und verantwortungsvoll erweitern\n• Resilienz & Balance leben\n• Dankbarkeit als innere Kraftquelle \nAnmeldung\n\n	Hinweis: Für diesen Inhalt ist JavaScript erforderlich.
URL:https://foerderverein-hs-albsig.de/event/wille-schlaegt-talent/
LOCATION:Hybrid / Albstadt\, Poststr. 6\, 72458 Albstadt
ATTACH;FMTTYPE=image/jpeg:https://foerderverein-hs-albsig.de/wp-content/uploads/2026/02/Aline-Bild.jpg
END:VEVENT
BEGIN:VEVENT
DTSTART;TZID=Europe/Berlin:20260506T120000
DTEND;TZID=Europe/Berlin:20260506T143000
DTSTAMP:20260420T140646
CREATED:20260223T140846Z
LAST-MODIFIED:20260330T095621Z
UID:2457-1778068800-1778077800@foerderverein-hs-albsig.de
SUMMARY:Snack & Talk
DESCRIPTION:Snack & Talk\n\nSnack & Talk ist ein Veranstaltungsformat des Fördervereins\, das auf spontanes Networking setzt. \nWir laden die Studierenden dazu ein\, in der Mittagpause ganz unverbindlich vorbeizuschauen\, mit Mitarbeitern der teilnehmenden Unternehmen über berufliche Möglichkeiten zu plaudern\, einen leckeren Smoothie zu trinken und noch einen Snack zur Stärkung einzupacken. \nDie teilnehmenden Mitgliedsunternehmen präsentieren sich mit einem Roll-Up und maximal zwei Personen an Stehtischen. Voraussetzung für die Teilnahme ist\, dass Praktikumsplätze oder Abschlussarbeiten angeboten werden. \nTeilnehmer \nCompData Computer GmbH\nSCHAEFER GmbH\niT Engineering Software Innovations GmbH\nGühring KG\nReinhardt GmbH\nWalter AG\nYaveon GmbH\nKern & Sohn GmbH \n\n\n	Hinweis: Für diesen Inhalt ist JavaScript erforderlich.
URL:https://foerderverein-hs-albsig.de/event/snack-talk-3/
LOCATION:Hochschulstandort Albstadt\, Hochschule\, Albstadt-Ebingen\, Deutschland
ATTACH;FMTTYPE=image/jpeg:https://foerderverein-hs-albsig.de/wp-content/uploads/2025/05/SnackTalk1.jpg
END:VEVENT
END:VCALENDAR